BEGIN:VCALENDAR
VERSION:2.0
PRODID:-//wp-events-plugin.com//7.2.3.1//EN
BEGIN:VEVENT
UID:18@calgarytrackcouncil.com
DTSTART:20260530T160000Z
DTEND:20260530T220000Z
DTSTAMP:20260319T201359Z
URL:https://calgarytrackcouncil.com/events/2026-alberta-elementary-school-
 championships/
SUMMARY:2026 Alberta Elementary School Championships
DESCRIPTION:Meet Information\nPermit # 5220974\nThe 2026 Elementary School
  Championships are scheduled for May 30\, 2026\, in Calgary at Foothills
  Athletic Park.\n\n 	Participants: Open to students in Grades 3 to 6.\n 	
 Events: Includes 60m\, 100m\, 800m\, long jump\, shot put\, and club thro
 w.\n\nRegistration and Info
ATTACH;FMTTYPE=image/jpeg:https://calgarytrackcouncil.com/wp-content/uploa
 ds/2025/12/Foothills305.jpg
CATEGORIES:Outdoor Meet
END:VEVENT
END:VCALENDAR