BEGIN:VCALENDAR
VERSION:2.0
PRODID:-//wp-events-plugin.com//7.2.3.1//EN
BEGIN:VEVENT
UID:22@calgarytrackcouncil.com
DTSTART:20260611T000000Z
DTEND:20260611T023000Z
DTSTAMP:20260409T022851Z
URL:https://calgarytrackcouncil.com/events/2026-cheetah-invitational/
SUMMARY:2026 Cheetah Invitational
DESCRIPTION:Meet Information\nPermit # 5221031\nThe Alberta Cheetah Invitat
 ional is a track and field meet for youth athletes in the U10\, U12\, and 
 U14 age categories. Hosted by CALTAF Athletic Association\, the event is s
 anctioned by Athletics Alberta.\n\nRegistration and Info\n\nTechnical Pack
 age
ATTACH;FMTTYPE=image/jpeg:https://calgarytrackcouncil.com/wp-content/uploa
 ds/2026/02/2026-Cheetah-Invitational-Logo.png
CATEGORIES:Outdoor Meet
LOCATION:https://maps.app.goo.gl/3eEFsQtxX8hjdcKY6
END:VEVENT
END:VCALENDAR