BEGIN:VCALENDAR
VERSION:2.0
PRODID:-//wp-events-plugin.com//7.2.3.1//EN
BEGIN:VEVENT
UID:15@calgarytrackcouncil.com
DTSTART:20260524T180000Z
DTEND:20260524T220000Z
DTSTAMP:20260321T150843Z
URL:https://calgarytrackcouncil.com/events/2026-grsas-meet-2/
SUMMARY:2026 GRSAS Meet #2
DESCRIPTION:Meet Information\nPermit # 5265788\nThe Gord's Running Store At
 hletics Series is a recurring track and field competition held in Calgary\
 , Alberta\, sponsored by Gord's Running Store.\n\nRegistration and Info\n\
 nTechnical Package
ATTACH;FMTTYPE=image/jpeg:https://calgarytrackcouncil.com/wp-content/uploa
 ds/2025/12/Foothills305.jpg
CATEGORIES:Outdoor Meet
LOCATION:https://maps.app.goo.gl/Ut3mgCauQAXpB9K6A
END:VEVENT
END:VCALENDAR