BEGIN:VCALENDAR
VERSION:2.0
PRODID:-//wp-events-plugin.com//7.2.3.1//EN
BEGIN:VEVENT
UID:20@calgarytrackcouncil.com
DTSTART:20260523T140000Z
DTEND:20260523T230000Z
DTSTAMP:20260310T024911Z
URL:https://calgarytrackcouncil.com/events/2026-high-school-cities/
SUMMARY:2026 High School Cities
DESCRIPTION:Meet Information\n\n\nThe Calgary Senior High School Athletic A
 ssociation (CSHSAA) Track &amp\; Field City Championships are scheduled fo
 r May 23\, 2026\, with qualifying Blue and Red divisional meets on May 13-
 14\, 2026. The events feature various track and field competitions for Cal
 gary high school athletes\, typically leading into provincial championship
 s.\n\n\nRegistration\nTechnical Package
ATTACH;FMTTYPE=image/jpeg:https://calgarytrackcouncil.com/wp-content/uploa
 ds/2025/12/Foothills305.jpg
CATEGORIES:Outdoor Meet
LOCATION:https://maps.app.goo.gl/3eEFsQtxX8hjdcKY6
END:VEVENT
END:VCALENDAR