BEGIN:VCALENDAR
VERSION:2.0
PRODID:-//wp-events-plugin.com//7.2.3.1//EN
BEGIN:VEVENT
UID:27@calgarytrackcouncil.com
DTSTART:20260912T143000Z
DTEND:20260912T233000Z
DTSTAMP:20260331T015537Z
URL:https://calgarytrackcouncil.com/events/caltaf-throws-fest-2/
SUMMARY:CALTAF Throws Fest #2
DESCRIPTION:Meet Information\nPermit # 5221044\nThe CALTAF Throws Festival 
 is an annual track and field competition hosted by CALTAF Athletic Associa
 tion at the Glenmore Athletic Park in Calgary\, Alberta. Part of a multi-m
 eet series\, it provides para-athletes\, masters\, and able-bodied competi
 tors an opportunity to compete in late-season throwing events.\n\nRegistra
 tion and Info
ATTACH;FMTTYPE=image/jpeg:https://calgarytrackcouncil.com/wp-content/uploa
 ds/2025/12/CALTAF.png
CATEGORIES:Outdoor Meet
LOCATION:https://maps.app.goo.gl/E8yQQkgPFhEerU1n9
END:VEVENT
END:VCALENDAR