BEGIN:VCALENDAR
VERSION:2.0
PRODID:-//wp-events-plugin.com//7.2.3.1//EN
BEGIN:VEVENT
UID:3@calgarytrackcouncil.com
DTSTART:20260113T193000Z
DTEND:20261110T210000Z
DTSTAMP:20260228T024755Z
URL:https://calgarytrackcouncil.com/events/ctc-meeting/
SUMMARY:CTC MEETING
DESCRIPTION:
ATTACH;FMTTYPE=image/jpeg:https://calgarytrackcouncil.com/wp-content/uploa
 ds/2025/12/ctclogo-1.png
CATEGORIES:Meeting
END:VEVENT
END:VCALENDAR