BEGIN:VCALENDAR
VERSION:2.0
PRODID:-//wp-events-plugin.com//7.2.3.1//EN
BEGIN:VEVENT
UID:1@calgarytrackcouncil.com
DTSTART:20260125T000000Z
DTEND:20260125T000000Z
DTSTAMP:20260127T024114Z
URL:https://calgarytrackcouncil.com/events/dinos-classic/
SUMMARY:DINOS CLASSIC
DESCRIPTION:Age Groups – 9 and under\, 10-15\, U18\, Senior\, Masters\n\n
 LIVE RESULTS\n\n 	\n➫ Technical Package\n\n 	\n➫ Registration\n\n 	\n
 ➫ Performance List\n\n 	\n➫ Final Schedule\n\n 	\n➫ 2026 Door Prizes
  Dinos Series Sponsorship Tri Hub\n\n 	\n☀ Results\n\n
ATTACH;FMTTYPE=image/jpeg:https://calgarytrackcouncil.com/wp-content/uploa
 ds/2025/12/Dinos.jpg
CATEGORIES:Indoor Meet
LOCATION:https://maps.app.goo.gl/DNFRj1tU85muXawZA
END:VEVENT
END:VCALENDAR