BEGIN:VCALENDAR
VERSION:2.0
PRODID:-//wp-events-plugin.com//7.2.3.1//EN
BEGIN:VEVENT
UID:2@calgarytrackcouncil.com
DTSTART:20251207T094500Z
DTEND:20251207T193000Z
DTSTAMP:20251229T042038Z
URL:https://calgarytrackcouncil.com/events/dinos-opener/
SUMMARY:DINOS OPENER
DESCRIPTION:Age Groups – 9 and under\, 10-15\, U18\, Senior\, Masters\n\n
  	\n➫ Technical Package\n\n 	\n➫ Registration\n\n 	\n➫ Performance L
 ist\n\n 	\n➫ Schedule\n\n\n\n 	\n☀ Results\n\n\nVideo Credit James Li
 vely\n\n[video width="500" mp4="https://calgarytrackcouncil.com/wp-content
 /uploads/2025/12/Dino-Opener.mp4"][/video]
ATTACH;FMTTYPE=image/jpeg:https://calgarytrackcouncil.com/wp-content/uploa
 ds/2025/12/Dinos.jpg
CATEGORIES:Indoor Meet
LOCATION:https://maps.app.goo.gl/wqGuaPAUuSmWTBuk9
END:VEVENT
END:VCALENDAR